BEGIN:VCALENDAR
VERSION:2.0
PRODID:-//Women in Information and Computer Sciences - ECPv6.3.7//NONSGML v1.0//EN
CALSCALE:GREGORIAN
METHOD:PUBLISH
X-WR-CALNAME:Women in Information and Computer Sciences
X-ORIGINAL-URL:https://wics.ics.uci.edu
X-WR-CALDESC:Events for Women in Information and Computer Sciences
REFRESH-INTERVAL;VALUE=DURATION:PT1H
X-Robots-Tag:noindex
X-PUBLISHED-TTL:PT1H
BEGIN:VTIMEZONE
TZID:America/Los_Angeles
BEGIN:DAYLIGHT
TZOFFSETFROM:-0800
TZOFFSETTO:-0700
TZNAME:PDT
DTSTART:20260308T100000
END:DAYLIGHT
BEGIN:STANDARD
TZOFFSETFROM:-0700
TZOFFSETTO:-0800
TZNAME:PST
DTSTART:20261101T090000
END:STANDARD
END:VTIMEZONE
BEGIN:VEVENT
DTSTART;TZID=America/Los_Angeles:20260105T183000
DTEND;TZID=America/Los_Angeles:20260105T200000
DTSTAMP:20260419T053956
CREATED:20260104T215906Z
LAST-MODIFIED:20260104T215906Z
UID:7703-1767637800-1767643200@wics.ics.uci.edu
SUMMARY:Winter 2026 Week 1: WICS Game Night
DESCRIPTION:RSVP: https://bit.ly/WICSxGameNightW26\nStamped Event?: Yes \nGet ready to mix things up at our game night! Come rotate through different stations\, meet new people\, and start winter quarter off with lots of fun! Whether you’re ready to get competitive or just here to unwind\, this event will be a super chill way to have some laughs with fellow WICS members! Hope to see you there!!
URL:https://wics.ics.uci.edu/event/winter-2026-week-1-wics-game-night/
ATTACH;FMTTYPE=image/png:https://wics.ics.uci.edu/wp-content/uploads/2026/01/DC-Wk-1-WICS-Game-Night.png
END:VEVENT
BEGIN:VEVENT
DTSTART;TZID=America/Los_Angeles:20260112T183000
DTEND;TZID=America/Los_Angeles:20260112T200000
DTSTAMP:20260419T053956
CREATED:20260106T204213Z
LAST-MODIFIED:20260106T204213Z
UID:7715-1768242600-1768248000@wics.ics.uci.edu
SUMMARY:Winter 2026 Week 2: WICS x First American - Beyond the Resume
DESCRIPTION:RSVP: https://bit.ly/WICSxBeyondTheResumeW26\nStamped Event?: Yes \nJoin us WICS in collaboration with First American for an informational meeting where you will gain resume tips from an intern recruiter as well as tips on how to stand out as an applicant beyond your resume. This is a great opportunity to ask questions\, get resume feedback\, and learn more about what companies look for in an applicant. Hope to see you there!
URL:https://wics.ics.uci.edu/event/winter-2026-week-2-wics-x-first-american-beyond-the-resume/
ATTACH;FMTTYPE=image/png:https://wics.ics.uci.edu/wp-content/uploads/2026/01/DCWk-2-First-American-Beyond-the-Resume-1.png
END:VEVENT
BEGIN:VEVENT
DTSTART;TZID=America/Los_Angeles:20260121T150000
DTEND;TZID=America/Los_Angeles:20260121T170000
DTSTAMP:20260419T053956
CREATED:20260115T212256Z
LAST-MODIFIED:20260115T212256Z
UID:7724-1769007600-1769014800@wics.ics.uci.edu
SUMMARY:Winter 2026 Week 3: WICSlympics
DESCRIPTION:RSVP: https://bit.ly/WICSxWICSlympicsW26\nStamped Event?: No \nOn your marks\, get set\, GO! Raise your competitive spirits with WICS for our very own WICSlympics by joining us on Wednesday\, January 21st from 3:00 PM to 5:00 PM in Aldrich Park! Compete with your mentorship family in fun games and competitions to battle for points\, raise the hype\, and claim bragging rights. Don’t worry if you’re not in the mentorship program; everyone is welcome to compete and have a great time! Make sure to RSVP to be a contender in the games — we are super stoked to see you there.
URL:https://wics.ics.uci.edu/event/winter-2026-week-3-wicslympics/
ATTACH;FMTTYPE=image/png:https://wics.ics.uci.edu/wp-content/uploads/2026/01/DC-Wk-3-WICSlympics-1.png
END:VEVENT
BEGIN:VEVENT
DTSTART;TZID=America/Los_Angeles:20260126T183000
DTEND;TZID=America/Los_Angeles:20260126T200000
DTSTAMP:20260419T053956
CREATED:20260121T014557Z
LAST-MODIFIED:20260121T014557Z
UID:7731-1769452200-1769457600@wics.ics.uci.edu
SUMMARY:Winter 2026 Week 4: WICS x Google - Mock Technical Interview Prep
DESCRIPTION:RSVP: https://bit.ly/WICSxGoogleMTIPrepW26\nStamped Event?: Yes \nJoin WICS in collaboration with Google for an interactive mock technical interview prep workshop! Hear from Googlers as they share their experiences and tips and tricks for technical interviews\, and guide you through SWE whiteboarding practice with real Google questions. Don’t miss this opportunity to build confidence\, sharpen your problem-solving skills\, and gain insight into the technical interviewing process as you prepare for our mock technical interviews in February. Hope to see you there!
URL:https://wics.ics.uci.edu/event/winter-2026-week-4-wics-x-google-mock-technical-interview-prep/
ATTACH;FMTTYPE=image/png:https://wics.ics.uci.edu/wp-content/uploads/2026/01/DC-Wk-4-WICS-x-Google-Mock-Technical-Interview-Prep.png
END:VEVENT
BEGIN:VEVENT
DTSTART;TZID=America/Los_Angeles:20260128T140000
DTEND;TZID=America/Los_Angeles:20260128T170000
DTSTAMP:20260419T053956
CREATED:20260122T205010Z
LAST-MODIFIED:20260122T205010Z
UID:7738-1769608800-1769619600@wics.ics.uci.edu
SUMMARY:Winter 2026 Week 4: Midterm Pomodoro Power Hour
DESCRIPTION:RSVP: https://bit.ly/WICSxPomodoroStudySessionW26\nStamped Event?: No \nLock in for midterms with WICS! Join us for a Pomodoro Power Hour—25 minute blocks of focused study\, with 5-minute breaks to stretch\, chat\, or reset\, and stay on track with your goals. Let’s get things crossed off our checklist and ace midterms together!
URL:https://wics.ics.uci.edu/event/winter-2026-week-4-midterm-pomodoro-power-hour/
CATEGORIES:Study Session
ATTACH;FMTTYPE=image/png:https://wics.ics.uci.edu/wp-content/uploads/2026/01/OAI-Wk-4-Midterm-Pomodoro-Power-Hour.png
END:VEVENT
END:VCALENDAR