BEGIN:VCALENDAR
VERSION:2.0
PRODID:-//Women in Information and Computer Sciences - ECPv6.3.7//NONSGML v1.0//EN
CALSCALE:GREGORIAN
METHOD:PUBLISH
X-WR-CALNAME:Women in Information and Computer Sciences
X-ORIGINAL-URL:https://wics.ics.uci.edu
X-WR-CALDESC:Events for Women in Information and Computer Sciences
REFRESH-INTERVAL;VALUE=DURATION:PT1H
X-Robots-Tag:noindex
X-PUBLISHED-TTL:PT1H
BEGIN:VTIMEZONE
TZID:America/Los_Angeles
BEGIN:DAYLIGHT
TZOFFSETFROM:-0800
TZOFFSETTO:-0700
TZNAME:PDT
DTSTART:20250309T100000
END:DAYLIGHT
BEGIN:STANDARD
TZOFFSETFROM:-0700
TZOFFSETTO:-0800
TZNAME:PST
DTSTART:20251102T090000
END:STANDARD
END:VTIMEZONE
BEGIN:VEVENT
DTSTART;TZID=America/Los_Angeles:20251201T183000
DTEND;TZID=America/Los_Angeles:20251201T200000
DTSTAMP:20260419T103651
CREATED:20251126T212151Z
LAST-MODIFIED:20251126T212151Z
UID:7689-1764613800-1764619200@wics.ics.uci.edu
SUMMARY:Fall 2025 Week 10: Winter Flix with WICS
DESCRIPTION:RSVP: https://bit.ly/WICSxWinterFlixF25\nStamped Event?: Yes \nIT’S TIIIIIMMEEE!!! Get ready for the winter season and join us for some fun and festive ornament decorating! Whether it’s making a one-of-a-kind paper snowflake or designing your own wooden ornament\, this will be a chill space to take a break from studying for finals and relax with a cozy movie in the background. Hope to see you there!!
URL:https://wics.ics.uci.edu/event/fall-2025-week-10-winter-flix-with-wics/
ATTACH;FMTTYPE=image/png:https://wics.ics.uci.edu/wp-content/uploads/2025/11/DC-Week-10-Winter-Flix-with-WICS-800-x-320-px.png
END:VEVENT
END:VCALENDAR