BEGIN:VCALENDAR
VERSION:2.0
PRODID:-//Women in Information and Computer Sciences - ECPv6.3.7//NONSGML v1.0//EN
CALSCALE:GREGORIAN
METHOD:PUBLISH
X-ORIGINAL-URL:https://wics.ics.uci.edu
X-WR-CALDESC:Events for Women in Information and Computer Sciences
REFRESH-INTERVAL;VALUE=DURATION:PT1H
X-Robots-Tag:noindex
X-PUBLISHED-TTL:PT1H
BEGIN:VTIMEZONE
TZID:America/Los_Angeles
BEGIN:DAYLIGHT
TZOFFSETFROM:-0800
TZOFFSETTO:-0700
TZNAME:PDT
DTSTART:20240310T100000
END:DAYLIGHT
BEGIN:STANDARD
TZOFFSETFROM:-0700
TZOFFSETTO:-0800
TZNAME:PST
DTSTART:20241103T090000
END:STANDARD
END:VTIMEZONE
BEGIN:VEVENT
DTSTART;TZID=America/Los_Angeles:20240603T063000
DTEND;TZID=America/Los_Angeles:20240603T200000
DTSTAMP:20260422T180141
CREATED:20240603T133056Z
LAST-MODIFIED:20240604T002841Z
UID:6888-1717396200-1717444800@wics.ics.uci.edu
SUMMARY:Spring 2024 Week 10: WICS Banquet
DESCRIPTION:RSVP: https://bit.ly/WICS-Banquet \n[This is a stamped event!] \n✨Join us for the WICS End-of-Year Banquet on Monday\, June 3rd at DBH 6011 from 6:30 – 8:30. Finish off a fantastic year with our community\, celebrating mentorship families with our Mentorship Awards\, handing out Silly Awards and bidding farewell to our graduating seniors with special gifts. Enjoy delicious food\, fun activities\, and more. Don’t miss this chance to celebrate the end of an amazing school year! We can’t wait to see you there!
URL:https://wics.ics.uci.edu/event/spring-2024-week-9-wics-banquet/
END:VEVENT
BEGIN:VEVENT
DTSTART;TZID=America/Los_Angeles:20240604T110000
DTEND;TZID=America/Los_Angeles:20240604T140000
DTSTAMP:20260422T180141
CREATED:20240604T002921Z
LAST-MODIFIED:20240604T003124Z
UID:6893-1717498800-1717509600@wics.ics.uci.edu
SUMMARY:Spring 2024 Week 10: Crepe Booth
DESCRIPTION:Looking for a sweet treat to get you through Week 10? Stop by the✨WICS Crepe Booth ✨on June 4 from 11am-2pm on Ring Road for some customizable crepes! Choose their own toppings: fruit\, syrups\, spreads\, and more! Hope to see you there!
URL:https://wics.ics.uci.edu/event/spring-2024-week-10-crepe-booth/
LOCATION:Ring Road
END:VEVENT
END:VCALENDAR