BEGIN:VCALENDAR
VERSION:2.0
PRODID:-//Women in Information and Computer Sciences - ECPv6.3.7//NONSGML v1.0//EN
CALSCALE:GREGORIAN
METHOD:PUBLISH
X-WR-CALNAME:Women in Information and Computer Sciences
X-ORIGINAL-URL:https://wics.ics.uci.edu
X-WR-CALDESC:Events for Women in Information and Computer Sciences
REFRESH-INTERVAL;VALUE=DURATION:PT1H
X-Robots-Tag:noindex
X-PUBLISHED-TTL:PT1H
BEGIN:VTIMEZONE
TZID:America/Los_Angeles
BEGIN:DAYLIGHT
TZOFFSETFROM:-0800
TZOFFSETTO:-0700
TZNAME:PDT
DTSTART:20260308T100000
END:DAYLIGHT
BEGIN:STANDARD
TZOFFSETFROM:-0700
TZOFFSETTO:-0800
TZNAME:PST
DTSTART:20261101T090000
END:STANDARD
END:VTIMEZONE
BEGIN:VEVENT
DTSTART;TZID=America/Los_Angeles:20260413T183000
DTEND;TZID=America/Los_Angeles:20260413T200000
DTSTAMP:20260419T135036
CREATED:20260408T171252Z
LAST-MODIFIED:20260408T171252Z
UID:7955-1776105000-1776110400@wics.ics.uci.edu
SUMMARY:Spring 2026 Week 3: WICS x Teach For America
DESCRIPTION:RSVP: https://bit.ly/WICSxTeachForAmericaS26\nStamped Event?: Yes \nInterested in making an impact through education? Join WICS and Teach For America to learn more about what tutoring and academic support can look like! We’ll get a chance to simulate tutoring sessions and learn how to support students\, decorate encouraging end-of-the-year cards for local schools\, and hear about opportunities for college students at Teach For America. We hope to see you all there! \nLearn more about Teach For America here: https://www.teachforamerica.org/
URL:https://wics.ics.uci.edu/event/spring-2026-week-3-wics-x-teach-for-america/
ATTACH;FMTTYPE=image/png:https://wics.ics.uci.edu/wp-content/uploads/2026/04/OAI-Wk-3-WICS-x-Teach-for-America.png
END:VEVENT
END:VCALENDAR