BEGIN:VCALENDAR
VERSION:2.0
PRODID:-//Women in Information and Computer Sciences - ECPv6.3.7//NONSGML v1.0//EN
CALSCALE:GREGORIAN
METHOD:PUBLISH
X-WR-CALNAME:Women in Information and Computer Sciences
X-ORIGINAL-URL:https://wics.ics.uci.edu
X-WR-CALDESC:Events for Women in Information and Computer Sciences
REFRESH-INTERVAL;VALUE=DURATION:PT1H
X-Robots-Tag:noindex
X-PUBLISHED-TTL:PT1H
BEGIN:VTIMEZONE
TZID:America/Los_Angeles
BEGIN:DAYLIGHT
TZOFFSETFROM:-0800
TZOFFSETTO:-0700
TZNAME:PDT
DTSTART:20260308T100000
END:DAYLIGHT
BEGIN:STANDARD
TZOFFSETFROM:-0700
TZOFFSETTO:-0800
TZNAME:PST
DTSTART:20261101T090000
END:STANDARD
END:VTIMEZONE
BEGIN:VEVENT
DTSTART;TZID=America/Los_Angeles:20260302T183000
DTEND;TZID=America/Los_Angeles:20260302T200000
DTSTAMP:20260419T181812
CREATED:20260224T215622Z
LAST-MODIFIED:20260224T215905Z
UID:7811-1772476200-1772481600@wics.ics.uci.edu
SUMMARY:Winter 2026 Week 9: WICS x Cotality
DESCRIPTION:RSVP: https://bit.ly/WICSXCotalityW26\nStamped Event?: Yes \nJoin WICS in collaboration with Cotality for a chance to network with representatives! Hear from Software Engineers and Product Managers as they share their experiences about a day in their life and what Cotality is all about. Hope to see you there!
URL:https://wics.ics.uci.edu/event/winter-2026-week-9-wics-x-cotality/
CATEGORIES:Company Collaboration,External Affairs,Networking
ATTACH;FMTTYPE=image/png:https://wics.ics.uci.edu/wp-content/uploads/2026/02/OAI-Wk-9-WICS-x-Cotality.png
END:VEVENT
END:VCALENDAR