BEGIN:VCALENDAR
VERSION:2.0
PRODID:-//Women in Information and Computer Sciences - ECPv6.3.7//NONSGML v1.0//EN
CALSCALE:GREGORIAN
METHOD:PUBLISH
X-ORIGINAL-URL:https://wics.ics.uci.edu
X-WR-CALDESC:Events for Women in Information and Computer Sciences
REFRESH-INTERVAL;VALUE=DURATION:PT1H
X-Robots-Tag:noindex
X-PUBLISHED-TTL:PT1H
BEGIN:VTIMEZONE
TZID:America/Los_Angeles
BEGIN:DAYLIGHT
TZOFFSETFROM:-0800
TZOFFSETTO:-0700
TZNAME:PDT
DTSTART:20250309T100000
END:DAYLIGHT
BEGIN:STANDARD
TZOFFSETFROM:-0700
TZOFFSETTO:-0800
TZNAME:PST
DTSTART:20251102T090000
END:STANDARD
END:VTIMEZONE
BEGIN:VEVENT
DTSTART;TZID=America/Los_Angeles:20251013T183000
DTEND;TZID=America/Los_Angeles:20251013T200000
DTSTAMP:20260421T201649
CREATED:20251008T203437Z
LAST-MODIFIED:20251008T203437Z
UID:7537-1760380200-1760385600@wics.ics.uci.edu
SUMMARY:Fall 2025 Week 3: WICS Games
DESCRIPTION:RSVP: https://bit.ly/WICSxWICSGamesF25\nStamped Event?: No \nGet ready for WICS Games 2025! This event brings together students and industry professionals for an evening of collaboration and friendly competition. Work side-by-side with company reps to solve coding problems and puzzles\, enjoy free food and drinks\, and win prizes! \nNote: Attendance is capped and offered on a first-come basis. If we reach full capacity\, you’ll be added to the waitlist. A confirmation email will follow once your RSVP is submitted.
URL:https://wics.ics.uci.edu/event/fall-2025-week-3-wics-games/
ATTACH;FMTTYPE=image/png:https://wics.ics.uci.edu/wp-content/uploads/2025/10/DC-Wk-3_-WICS-Games.png
END:VEVENT
END:VCALENDAR