BEGIN:VCALENDAR
VERSION:2.0
PRODID:-//Women in Information and Computer Sciences - ECPv6.3.7//NONSGML v1.0//EN
CALSCALE:GREGORIAN
METHOD:PUBLISH
X-ORIGINAL-URL:https://wics.ics.uci.edu
X-WR-CALDESC:Events for Women in Information and Computer Sciences
REFRESH-INTERVAL;VALUE=DURATION:PT1H
X-Robots-Tag:noindex
X-PUBLISHED-TTL:PT1H
BEGIN:VTIMEZONE
TZID:America/Los_Angeles
BEGIN:DAYLIGHT
TZOFFSETFROM:-0800
TZOFFSETTO:-0700
TZNAME:PDT
DTSTART:20250309T100000
END:DAYLIGHT
BEGIN:STANDARD
TZOFFSETFROM:-0700
TZOFFSETTO:-0800
TZNAME:PST
DTSTART:20251102T090000
END:STANDARD
END:VTIMEZONE
BEGIN:VEVENT
DTSTART;TZID=America/Los_Angeles:20250519T183000
DTEND;TZID=America/Los_Angeles:20250519T200000
DTSTAMP:20260422T011815
CREATED:20250513T182749Z
LAST-MODIFIED:20250513T182749Z
UID:7325-1747679400-1747684800@wics.ics.uci.edu
SUMMARY:Spring 2025 Week 8: WICS x BiT Intern-taining Conversations
DESCRIPTION:RSVP: https://bit.ly/WICSxBiTInterntainingConversationsS25 \nStamped Event?: Yes \nCurious about the internship experience? Join WICS and BiT on Monday\, May 19 from 6:30-8:00pm in DBH 6011 to talk to students who have previously interned for various companies! Ask about what steps they took to land their internships\, their day-to-day in their roles\, and any other burning questions you have about the internship process and experience! Remember to RSVP through the link in our bio\, and we can’t wait to see you all there!!!
URL:https://wics.ics.uci.edu/event/spring-2025-week-8-wics-x-bit-intern-taining-conversations/
ATTACH;FMTTYPE=image/png:https://wics.ics.uci.edu/wp-content/uploads/2025/05/DC-Week-8-BIT-X-WICS-Collab.png
END:VEVENT
END:VCALENDAR