BEGIN:VCALENDAR
VERSION:2.0
PRODID:-//Women in Information and Computer Sciences - ECPv6.3.7//NONSGML v1.0//EN
CALSCALE:GREGORIAN
METHOD:PUBLISH
X-ORIGINAL-URL:https://wics.ics.uci.edu
X-WR-CALDESC:Events for Women in Information and Computer Sciences
REFRESH-INTERVAL;VALUE=DURATION:PT1H
X-Robots-Tag:noindex
X-PUBLISHED-TTL:PT1H
BEGIN:VTIMEZONE
TZID:America/Los_Angeles
BEGIN:DAYLIGHT
TZOFFSETFROM:-0800
TZOFFSETTO:-0700
TZNAME:PDT
DTSTART:20250309T100000
END:DAYLIGHT
BEGIN:STANDARD
TZOFFSETFROM:-0700
TZOFFSETTO:-0800
TZNAME:PST
DTSTART:20251102T090000
END:STANDARD
END:VTIMEZONE
BEGIN:VEVENT
DTSTART;TZID=America/Los_Angeles:20250512T183000
DTEND;TZID=America/Los_Angeles:20250512T200000
DTSTAMP:20260423T175226
CREATED:20250506T183926Z
LAST-MODIFIED:20250506T183926Z
UID:7316-1747074600-1747080000@wics.ics.uci.edu
SUMMARY:Spring 2025 Week 7: Tell it Like IT is with BX Solutions
DESCRIPTION:RSVP: https://bit.ly/WICSxhttps://bit.ly/WICSxBXSolutionsS25 \nStamped Event?: Yes \nInterested in IT consulting? Feeling that imposter syndrome? Join BX Solutions to learn about launching your career\, building confidence\, and thriving in the tech consulting world. Whether you’re just starting out or leveling up\, this event will guide you to owning your story. Join us in DBH 6011\, and let’s think outside the BX together!
URL:https://wics.ics.uci.edu/event/spring-2025-week-7-tell-it-like-it-is-with-bx-solutions/
ATTACH;FMTTYPE=image/png:https://wics.ics.uci.edu/wp-content/uploads/2025/05/WICSWeek7.png
END:VEVENT
END:VCALENDAR