BEGIN:VCALENDAR
VERSION:2.0
PRODID:-//Women in Information and Computer Sciences - ECPv6.3.7//NONSGML v1.0//EN
CALSCALE:GREGORIAN
METHOD:PUBLISH
X-ORIGINAL-URL:https://wics.ics.uci.edu
X-WR-CALDESC:Events for Women in Information and Computer Sciences
REFRESH-INTERVAL;VALUE=DURATION:PT1H
X-Robots-Tag:noindex
X-PUBLISHED-TTL:PT1H
BEGIN:VTIMEZONE
TZID:America/Los_Angeles
BEGIN:DAYLIGHT
TZOFFSETFROM:-0800
TZOFFSETTO:-0700
TZNAME:PDT
DTSTART:20250309T100000
END:DAYLIGHT
BEGIN:STANDARD
TZOFFSETFROM:-0700
TZOFFSETTO:-0800
TZNAME:PST
DTSTART:20251102T090000
END:STANDARD
END:VTIMEZONE
BEGIN:VEVENT
DTSTART;TZID=America/Los_Angeles:20250414T183000
DTEND;TZID=America/Los_Angeles:20250414T200000
DTSTAMP:20260423T212408
CREATED:20250411T002220Z
LAST-MODIFIED:20250411T002220Z
UID:7270-1744655400-1744660800@wics.ics.uci.edu
SUMMARY:Spring 2025 Week 3: WICSino
DESCRIPTION:RSVP: https://bit.ly/WICSxWICSinoS25 \nStamped Event?: Yes\nWelcome to ♥️♣️WICSino Night! ♠️♦️Come join us on Monday\, April 14th from 6:30-8pm for a fun night of sparkling drinks\, sparkling lights\, and sparkling ✨personalities ✨.  Try your luck playing water bottle bowling\, cup pong\, or a round of blackjack to earn some tickets and get the chance to win some prizes. We hope to see you there!
URL:https://wics.ics.uci.edu/event/spring-2025-week-3-wicsino/
LOCATION:DBH 6011
ATTACH;FMTTYPE=image/png:https://wics.ics.uci.edu/wp-content/uploads/2025/04/DC-Week-3_-Wicsino.png
END:VEVENT
END:VCALENDAR