BEGIN:VCALENDAR
VERSION:2.0
PRODID:-//Women in Information and Computer Sciences - ECPv6.3.7//NONSGML v1.0//EN
CALSCALE:GREGORIAN
METHOD:PUBLISH
X-ORIGINAL-URL:https://wics.ics.uci.edu
X-WR-CALDESC:Events for Women in Information and Computer Sciences
REFRESH-INTERVAL;VALUE=DURATION:PT1H
X-Robots-Tag:noindex
X-PUBLISHED-TTL:PT1H
BEGIN:VTIMEZONE
TZID:America/Los_Angeles
BEGIN:DAYLIGHT
TZOFFSETFROM:-0800
TZOFFSETTO:-0700
TZNAME:PDT
DTSTART:20250309T100000
END:DAYLIGHT
BEGIN:STANDARD
TZOFFSETFROM:-0700
TZOFFSETTO:-0800
TZNAME:PST
DTSTART:20251102T090000
END:STANDARD
END:VTIMEZONE
BEGIN:VEVENT
DTSTART;TZID=America/Los_Angeles:20250129T150000
DTEND;TZID=America/Los_Angeles:20250129T170000
DTSTAMP:20260421T131256
CREATED:20250129T230400Z
LAST-MODIFIED:20250129T230400Z
UID:7146-1738162800-1738170000@wics.ics.uci.edu
SUMMARY:Winter 2025 Week 4: Mentorship Game Night
DESCRIPTION:Join us for Mentorship Game Night ! Get ready for some friendly competition\, fam bonding\, and lots of fun! Come help your fam earn mentorship points on Wednesday\, January 29 from 3 – 5pm.\nRSVP: bit.ly/WICSxMentorshipGameNightW25
URL:https://wics.ics.uci.edu/event/winter-2025-week-4-mentorship-game-night/
LOCATION:DBH 3011
ATTACH;FMTTYPE=image/png:https://wics.ics.uci.edu/wp-content/uploads/2025/01/DC-Week-4_-Mentorship-Game-Night.png
END:VEVENT
END:VCALENDAR