BEGIN:VCALENDAR
VERSION:2.0
PRODID:-//Women in Information and Computer Sciences - ECPv6.3.7//NONSGML v1.0//EN
CALSCALE:GREGORIAN
METHOD:PUBLISH
X-ORIGINAL-URL:https://wics.ics.uci.edu
X-WR-CALDESC:Events for Women in Information and Computer Sciences
REFRESH-INTERVAL;VALUE=DURATION:PT1H
X-Robots-Tag:noindex
X-PUBLISHED-TTL:PT1H
BEGIN:VTIMEZONE
TZID:America/Los_Angeles
BEGIN:DAYLIGHT
TZOFFSETFROM:-0800
TZOFFSETTO:-0700
TZNAME:PDT
DTSTART:20240310T100000
END:DAYLIGHT
BEGIN:STANDARD
TZOFFSETFROM:-0700
TZOFFSETTO:-0800
TZNAME:PST
DTSTART:20241103T090000
END:STANDARD
END:VTIMEZONE
BEGIN:VEVENT
DTSTART;TZID=America/Los_Angeles:20241113T140000
DTEND;TZID=America/Los_Angeles:20241113T170000
DTSTAMP:20260423T215502
CREATED:20241107T055005Z
LAST-MODIFIED:20241107T055005Z
UID:7057-1731506400-1731517200@wics.ics.uci.edu
SUMMARY:Fall 2024 Week 7: Study Session
DESCRIPTION:RSVP: bit.ly/WICSxWeek7StudySessionF24 \nStamped Event?: Yes\n✏️ Stressed with midterms? Join us at our Study Session on 11/13 from 2-5 pm in DBH 5011! This is a perfect spot to connect with other members and meet people who are in your classes. Feel free to socialize\, work on projects\, and study in a relaxed\, supportive space.\n️: @juliatjiaa
URL:https://wics.ics.uci.edu/event/fall-2024-week-7-study-session/
LOCATION:DBH 5011
ATTACH;FMTTYPE=image/png:https://wics.ics.uci.edu/wp-content/uploads/2024/11/FB-WEEK-7-STUDY-SESSION.png
END:VEVENT
END:VCALENDAR