BEGIN:VCALENDAR
VERSION:2.0
PRODID:-//Women in Information and Computer Sciences - ECPv6.3.7//NONSGML v1.0//EN
CALSCALE:GREGORIAN
METHOD:PUBLISH
X-ORIGINAL-URL:https://wics.ics.uci.edu
X-WR-CALDESC:Events for Women in Information and Computer Sciences
REFRESH-INTERVAL;VALUE=DURATION:PT1H
X-Robots-Tag:noindex
X-PUBLISHED-TTL:PT1H
BEGIN:VTIMEZONE
TZID:America/Los_Angeles
BEGIN:DAYLIGHT
TZOFFSETFROM:-0800
TZOFFSETTO:-0700
TZNAME:PDT
DTSTART:20240310T100000
END:DAYLIGHT
BEGIN:STANDARD
TZOFFSETFROM:-0700
TZOFFSETTO:-0800
TZNAME:PST
DTSTART:20241103T090000
END:STANDARD
END:VTIMEZONE
BEGIN:VEVENT
DTSTART;VALUE=DATE:20241026
DTEND;VALUE=DATE:20241029
DTSTAMP:20260422T071640
CREATED:20241027T201745Z
LAST-MODIFIED:20241027T201938Z
UID:7031-1729900800-1730159999@wics.ics.uci.edu
SUMMARY:Fall 2024: WICS Committee Applications EXTENDED
DESCRIPTION:App Link: https://bit.ly/WICSxCommitteeApplicationsF2024 \n‼️ WICS COMMITTEE APPLICATIONS ARE STILL OPEN ‼️\nCommittee members gain important skills in networking\, planning\, and management\, and interact frequently with company representatives during the planning process. This is also an incredible resume builder and demonstrates leadership and initiative to future employers or graduate programs. Furthermore\, committee members have PRIORITY to events such as the Grace Hopper Celebration\, WICS Games\, and Mock Technical Interview. \nDeadline is Monday\, October 28th\, 11:59PM PT. After the deadline\, you may be contacted to schedule a coffee chat.
URL:https://wics.ics.uci.edu/event/fall-2024-wics-committee-applications-extended/
ATTACH;FMTTYPE=image/png:https://wics.ics.uci.edu/wp-content/uploads/2024/10/FB-Committee-Applications-Are-Open-Ver-2.png
END:VEVENT
END:VCALENDAR