BEGIN:VCALENDAR
VERSION:2.0
PRODID:-//Women in Information and Computer Sciences - ECPv6.3.7//NONSGML v1.0//EN
CALSCALE:GREGORIAN
METHOD:PUBLISH
X-ORIGINAL-URL:https://wics.ics.uci.edu
X-WR-CALDESC:Events for Women in Information and Computer Sciences
REFRESH-INTERVAL;VALUE=DURATION:PT1H
X-Robots-Tag:noindex
X-PUBLISHED-TTL:PT1H
BEGIN:VTIMEZONE
TZID:America/Los_Angeles
BEGIN:DAYLIGHT
TZOFFSETFROM:-0800
TZOFFSETTO:-0700
TZNAME:PDT
DTSTART:20240310T100000
END:DAYLIGHT
BEGIN:STANDARD
TZOFFSETFROM:-0700
TZOFFSETTO:-0800
TZNAME:PST
DTSTART:20241103T090000
END:STANDARD
END:VTIMEZONE
BEGIN:VEVENT
DTSTART;VALUE=DATE:20241014
DTEND;VALUE=DATE:20241026
DTSTAMP:20260421T184424
CREATED:20241014T232507Z
LAST-MODIFIED:20241014T232507Z
UID:6996-1728864000-1729900799@wics.ics.uci.edu
SUMMARY:Fall 2024: WICS Committee Applications Open
DESCRIPTION:App Link: https://bit.ly/WICSxCommitteeApplicationsF2024 \n‼️ WICS COMMITTEE APPLICATIONS ARE NOW OPEN ‼️\nCommittee members gain important skills in networking\, planning\, and management\, and interact frequently with company representatives during the planning process. This is also an incredible resume builder and demonstrates leadership and initiative to future employers or graduate programs.\nFurthermore\, committee members have PRIORITY to events such as the Grace Hopper Celebration\, WICS Games\, and Mock Technical Interview. \nDeadline is Friday\, October 25th\, 11:59PM PT. After the deadline\, you may be contacted to schedule a coffee chat.
URL:https://wics.ics.uci.edu/event/fall-2024-wics-committee-applications-open/
ATTACH;FMTTYPE=image/png:https://wics.ics.uci.edu/wp-content/uploads/2024/10/FB-Committee-Applications-Are-Open-Ver-1.png
END:VEVENT
BEGIN:VEVENT
DTSTART;TZID=America/Los_Angeles:20241023T160000
DTEND;TZID=America/Los_Angeles:20241023T180000
DTSTAMP:20260421T184424
CREATED:20241021T221536Z
LAST-MODIFIED:20241021T221536Z
UID:7007-1729699200-1729706400@wics.ics.uci.edu
SUMMARY:Fall 2024 Week 4: Picnic and Paint in Aldrich Park
DESCRIPTION:RSVP: bit.ly/WICSxPicnicandPaintinAldrichParkF24 \nStamped Event?: No\n Come chill with your mentorship fam at our Picnic and Paint in Aldrich Park Mentorship Social! Whether you want to make bracelets\, paint\, or just enjoy the outdoors\, this event is all about having fun and getting to know your fellow mentors and mentees in a relaxed and creative setting. It’s the perfect chance to bond\, unwind\, and make some cool memories together. Bring your blankets\, creativity\, and let’s create something special! ✨
URL:https://wics.ics.uci.edu/event/fall-2024-week-4-picnic-and-paint-in-aldrich-park/
LOCATION:Aldrich Park
ATTACH;FMTTYPE=image/png:https://wics.ics.uci.edu/wp-content/uploads/2024/10/FB-Mentorship-Social.png
END:VEVENT
END:VCALENDAR