BEGIN:VCALENDAR
VERSION:2.0
PRODID:-//Women in Information and Computer Sciences - ECPv6.3.7//NONSGML v1.0//EN
CALSCALE:GREGORIAN
METHOD:PUBLISH
X-ORIGINAL-URL:https://wics.ics.uci.edu
X-WR-CALDESC:Events for Women in Information and Computer Sciences
REFRESH-INTERVAL;VALUE=DURATION:PT1H
X-Robots-Tag:noindex
X-PUBLISHED-TTL:PT1H
BEGIN:VTIMEZONE
TZID:America/Los_Angeles
BEGIN:DAYLIGHT
TZOFFSETFROM:-0800
TZOFFSETTO:-0700
TZNAME:PDT
DTSTART:20240310T100000
END:DAYLIGHT
BEGIN:STANDARD
TZOFFSETFROM:-0700
TZOFFSETTO:-0800
TZNAME:PST
DTSTART:20241103T090000
END:STANDARD
END:VTIMEZONE
BEGIN:VEVENT
DTSTART;TZID=America/Los_Angeles:20241007T183000
DTEND;TZID=America/Los_Angeles:20241007T200000
DTSTAMP:20260421T113704
CREATED:20241002T074539Z
LAST-MODIFIED:20241002T074539Z
UID:6967-1728325800-1728331200@wics.ics.uci.edu
SUMMARY:Fall 2024 Week 2: Mentorship Mixer
DESCRIPTION:RSVP: https://bit.ly/WICSxMentorshipMixerF24 \nStamped Event?: Yes\n✨ Mentorship Mixer is here!✨ Join us for our Mentorship Mixer ️ and kick off this year’s mentorship program by connecting with your potential mentors and mentees! Whether you’re looking for guidance or eager to share your knowledge\, this is the perfect chance to figure out who you might want as your mentor/mentee and who you’d like as part of your mentorship fam :’) So come out\, meet new people\, and have fun!  \nFor those interested in becoming mentors/mentees\, please fill out the respective slide decks below ⬇️ \nMentee Intros: https://bit.ly/WICSMentees24 \nMentor Intros: https://bit.ly/WICSMentors24
URL:https://wics.ics.uci.edu/event/fall-2024-week-2-mentorship-mixer/
LOCATION:DBH 6011
ATTACH;FMTTYPE=image/png:https://wics.ics.uci.edu/wp-content/uploads/2024/10/FB-MENTORSHIP-MIXER.png
END:VEVENT
END:VCALENDAR