BEGIN:VCALENDAR
VERSION:2.0
PRODID:-//Women in Information and Computer Sciences - ECPv6.3.7//NONSGML v1.0//EN
CALSCALE:GREGORIAN
METHOD:PUBLISH
X-ORIGINAL-URL:https://wics.ics.uci.edu
X-WR-CALDESC:Events for Women in Information and Computer Sciences
REFRESH-INTERVAL;VALUE=DURATION:PT1H
X-Robots-Tag:noindex
X-PUBLISHED-TTL:PT1H
BEGIN:VTIMEZONE
TZID:America/Los_Angeles
BEGIN:DAYLIGHT
TZOFFSETFROM:-0800
TZOFFSETTO:-0700
TZNAME:PDT
DTSTART:20240310T100000
END:DAYLIGHT
BEGIN:STANDARD
TZOFFSETFROM:-0700
TZOFFSETTO:-0800
TZNAME:PST
DTSTART:20241103T090000
END:STANDARD
END:VTIMEZONE
BEGIN:VEVENT
DTSTART;TZID=America/Los_Angeles:20240513T183000
DTEND;TZID=America/Los_Angeles:20240513T200000
DTSTAMP:20260422T192053
CREATED:20240509T210703Z
LAST-MODIFIED:20240509T210703Z
UID:6843-1715625000-1715630400@wics.ics.uci.edu
SUMMARY:Spring 2024 Week 7: WICS x Hack present: Hacker Hangouts: Brainstorming Big Ideas
DESCRIPTION:RSVP: bit.ly/WICSxHackVH \n[This is a stamped event.] \nDo you want to do a hackathon but find yourself intimidated and unsure of what to expect? Join us on Monday\, May 13 at 6:30 PM – 8 PM in DBH 6011 for our WICS x Hack@UCI to practice brainstorming for hackathons and also talk to those who have done hackathons to hear more about it. Come with questions and leave ready to participate in your first hackathon!
URL:https://wics.ics.uci.edu/event/spring-2024-week-7-wics-x-hack-present-hacker-hangouts-brainstorming-big-ideas/
LOCATION:DBH 6011
END:VEVENT
END:VCALENDAR