BEGIN:VCALENDAR
VERSION:2.0
PRODID:-//Women in Information and Computer Sciences - ECPv6.3.7//NONSGML v1.0//EN
CALSCALE:GREGORIAN
METHOD:PUBLISH
X-ORIGINAL-URL:https://wics.ics.uci.edu
X-WR-CALDESC:Events for Women in Information and Computer Sciences
REFRESH-INTERVAL;VALUE=DURATION:PT1H
X-Robots-Tag:noindex
X-PUBLISHED-TTL:PT1H
BEGIN:VTIMEZONE
TZID:America/Los_Angeles
BEGIN:DAYLIGHT
TZOFFSETFROM:-0800
TZOFFSETTO:-0700
TZNAME:PDT
DTSTART:20240310T100000
END:DAYLIGHT
BEGIN:STANDARD
TZOFFSETFROM:-0700
TZOFFSETTO:-0800
TZNAME:PST
DTSTART:20241103T090000
END:STANDARD
END:VTIMEZONE
BEGIN:VEVENT
DTSTART;TZID=America/Los_Angeles:20240501T140000
DTEND;TZID=America/Los_Angeles:20240501T163000
DTSTAMP:20260422T001503
CREATED:20240430T004400Z
LAST-MODIFIED:20240430T004400Z
UID:6786-1714572000-1714581000@wics.ics.uci.edu
SUMMARY:Spring 2024 Week 5: GHC Info Session / Study Session
DESCRIPTION:RSVP: bit.ly/WICSSpringStudySession \n[This is not a stamped event.] \nDive into the heart of tech innovation with WICS! Join us for an illuminating session on the renowned Grace Hopper Celebration from 2-3 pm before our Study Session from 3-4:30 pm! Discover the essence of this monumental tech conference and explore how you can seize the opportunity to attend with an exclusive ✨scholarship✨. Hear firsthand accounts from past attendees\, unlocking insights and experiences that pave the way for your journey. All ICS students are eligible and encouraged to apply for funding to participate in the conference!
URL:https://wics.ics.uci.edu/event/spring-2024-week-5-ghc-info-session-study-session/
LOCATION:DBH 4011
END:VEVENT
END:VCALENDAR