BEGIN:VCALENDAR
VERSION:2.0
PRODID:-//Women in Information and Computer Sciences - ECPv6.3.7//NONSGML v1.0//EN
CALSCALE:GREGORIAN
METHOD:PUBLISH
X-ORIGINAL-URL:https://wics.ics.uci.edu
X-WR-CALDESC:Events for Women in Information and Computer Sciences
REFRESH-INTERVAL;VALUE=DURATION:PT1H
X-Robots-Tag:noindex
X-PUBLISHED-TTL:PT1H
BEGIN:VTIMEZONE
TZID:America/Los_Angeles
BEGIN:DAYLIGHT
TZOFFSETFROM:-0800
TZOFFSETTO:-0700
TZNAME:PDT
DTSTART:20240310T100000
END:DAYLIGHT
BEGIN:STANDARD
TZOFFSETFROM:-0700
TZOFFSETTO:-0800
TZNAME:PST
DTSTART:20241103T090000
END:STANDARD
END:VTIMEZONE
BEGIN:VEVENT
DTSTART;TZID=America/Los_Angeles:20240422T183000
DTEND;TZID=America/Los_Angeles:20240422T200000
DTSTAMP:20260422T150014
CREATED:20240418T152851Z
LAST-MODIFIED:20240506T152918Z
UID:6838-1713810600-1713816000@wics.ics.uci.edu
SUMMARY:Spring 2024 Week 4: Startups in Tech | WICS x Manifest
DESCRIPTION:RSVP: bit.ly/WICSxManifest  \nReady to pitch your way to success?  Join us for an exciting tech startup idea pitch event where WICS and Manifest members team up to create innovative start-ups! Watch and pitch in as groups present their unique ideas and share their creative process. Get inspired and support the future of tech with us in DBH 6011 this Monday from 6:30 – 8:00 pm!  #StartupPitch \n 
URL:https://wics.ics.uci.edu/event/spring-2024-week-4-startups-in-tech-wics-x-manifest/
LOCATION:DBH 6011
END:VEVENT
END:VCALENDAR