BEGIN:VCALENDAR
VERSION:2.0
PRODID:-//Women in Information and Computer Sciences - ECPv6.3.7//NONSGML v1.0//EN
CALSCALE:GREGORIAN
METHOD:PUBLISH
X-ORIGINAL-URL:https://wics.ics.uci.edu
X-WR-CALDESC:Events for Women in Information and Computer Sciences
REFRESH-INTERVAL;VALUE=DURATION:PT1H
X-Robots-Tag:noindex
X-PUBLISHED-TTL:PT1H
BEGIN:VTIMEZONE
TZID:America/Los_Angeles
BEGIN:DAYLIGHT
TZOFFSETFROM:-0800
TZOFFSETTO:-0700
TZNAME:PDT
DTSTART:20240310T100000
END:DAYLIGHT
BEGIN:STANDARD
TZOFFSETFROM:-0700
TZOFFSETTO:-0800
TZNAME:PST
DTSTART:20241103T090000
END:STANDARD
END:VTIMEZONE
BEGIN:VEVENT
DTSTART;TZID=America/Los_Angeles:20240304T183000
DTEND;TZID=America/Los_Angeles:20240304T200000
DTSTAMP:20260422T161638
CREATED:20240228T231334Z
LAST-MODIFIED:20240228T231334Z
UID:6703-1709577000-1709582400@wics.ics.uci.edu
SUMMARY:Winter 2024 Week 9: WICS x CoStar: How to be a Confident Woman in Tech
DESCRIPTION:RSVP: https://bit.ly/WICSxCoStarWk9  \nEver wonder how to stand out as a woman in the CS industry? Join us and CoStar Group on Monday\, March 4 from 6:30-8:00pm in DBH 6011 to learn about how you can leverage your skills as a woman in the tech field. 💻 Get a chance to meet a representative from CoStar Group and learn how to grow confidence in your own skills and values in the industry! Get some tips on how to leave a great first impression at an interview. Don’t forget to RSVP through the link in our bio!🌟
URL:https://wics.ics.uci.edu/event/winter-2024-week-9-wics-x-costar-how-to-be-a-confident-woman-in-tech/
LOCATION:DBH 6011
ATTACH;FMTTYPE=image/png:https://wics.ics.uci.edu/wp-content/uploads/2024/02/Costar-FB.png
END:VEVENT
END:VCALENDAR