BEGIN:VCALENDAR
VERSION:2.0
PRODID:-//Women in Information and Computer Sciences - ECPv6.3.7//NONSGML v1.0//EN
CALSCALE:GREGORIAN
METHOD:PUBLISH
X-ORIGINAL-URL:https://wics.ics.uci.edu
X-WR-CALDESC:Events for Women in Information and Computer Sciences
REFRESH-INTERVAL;VALUE=DURATION:PT1H
X-Robots-Tag:noindex
X-PUBLISHED-TTL:PT1H
BEGIN:VTIMEZONE
TZID:America/Los_Angeles
BEGIN:DAYLIGHT
TZOFFSETFROM:-0800
TZOFFSETTO:-0700
TZNAME:PDT
DTSTART:20240310T100000
END:DAYLIGHT
BEGIN:STANDARD
TZOFFSETFROM:-0700
TZOFFSETTO:-0800
TZNAME:PST
DTSTART:20241103T090000
END:STANDARD
END:VTIMEZONE
BEGIN:VEVENT
DTSTART;TZID=America/Los_Angeles:20240129T183000
DTEND;TZID=America/Los_Angeles:20240129T200000
DTSTAMP:20260421T084545
CREATED:20240124T041307Z
LAST-MODIFIED:20240124T041307Z
UID:6653-1706553000-1706558400@wics.ics.uci.edu
SUMMARY:Winter 2024 Week 4: WICS x VGDC Mad Pitch
DESCRIPTION:RSVP: https://bit.ly/WICSxVGDCMadPitch  \nHave you ever dreamed of designing your own video game? Join WICS and VGDC from 6:30-8:00 pm in DBH 6011 on Monday\, Jan 29 for the first ever WICS X VGDC collab: a Video Game Pitch Competition! 🎮 Brainstorm and pitch a video game idea with fellow students\, no experience required—just bring your laptop and ideas! 🌈 It’s the perfect opportunity to hone your creative\, collaboration\, and public speaking skills.
URL:https://wics.ics.uci.edu/event/winter-2024-week-4-wics-x-vgdc-mad-pitch/
LOCATION:DBH 6011
ATTACH;FMTTYPE=image/jpeg:https://wics.ics.uci.edu/wp-content/uploads/2024/01/WICS-x-VGDC-Mad-Pitch-IG.png.jpg
END:VEVENT
END:VCALENDAR