BEGIN:VCALENDAR
VERSION:2.0
PRODID:-//Women in Information and Computer Sciences - ECPv6.3.7//NONSGML v1.0//EN
CALSCALE:GREGORIAN
METHOD:PUBLISH
X-ORIGINAL-URL:https://wics.ics.uci.edu
X-WR-CALDESC:Events for Women in Information and Computer Sciences
REFRESH-INTERVAL;VALUE=DURATION:PT1H
X-Robots-Tag:noindex
X-PUBLISHED-TTL:PT1H
BEGIN:VTIMEZONE
TZID:America/Los_Angeles
BEGIN:DAYLIGHT
TZOFFSETFROM:-0800
TZOFFSETTO:-0700
TZNAME:PDT
DTSTART:20230312T100000
END:DAYLIGHT
BEGIN:STANDARD
TZOFFSETFROM:-0700
TZOFFSETTO:-0800
TZNAME:PST
DTSTART:20231105T090000
END:STANDARD
END:VTIMEZONE
BEGIN:VEVENT
DTSTART;TZID=America/Los_Angeles:20231202T110000
DTEND;TZID=America/Los_Angeles:20231202T120000
DTSTAMP:20260423T174548
CREATED:20231126T230147Z
LAST-MODIFIED:20231126T230326Z
UID:6610-1701514800-1701518400@wics.ics.uci.edu
SUMMARY:Fall 2023 Week 9: API workshop with Postman Part 2
DESCRIPTION:RSVP: https://bit.ly/WICSxPostmanAPIPart2 \nExplore the world of APIs and enhance your skills with WICS and Postman\, the premier API platform. In Part 2 of this workshop\, we’re offering office hours specifically for attendees of Part 1. Our dedicated WICS workshop leaders will be available in DBH 6011 from 11 am to 12 pm on 12/2/23\, ready to address any questions or concerns you may have about the workshop content or anything else related. We’ll be there to cheer you on as you earn your certificate!
URL:https://wics.ics.uci.edu/event/fall-2023-week-9-api-workshop-with-postman-part-2/
LOCATION:DBH 6011
ATTACH;FMTTYPE=image/jpeg:https://wics.ics.uci.edu/wp-content/uploads/2023/11/API-Postman-Workshop-Part-2-FB.jpg
END:VEVENT
END:VCALENDAR