BEGIN:VCALENDAR
VERSION:2.0
PRODID:-//Women in Information and Computer Sciences - ECPv6.3.7//NONSGML v1.0//EN
CALSCALE:GREGORIAN
METHOD:PUBLISH
X-ORIGINAL-URL:https://wics.ics.uci.edu
X-WR-CALDESC:Events for Women in Information and Computer Sciences
REFRESH-INTERVAL;VALUE=DURATION:PT1H
X-Robots-Tag:noindex
X-PUBLISHED-TTL:PT1H
BEGIN:VTIMEZONE
TZID:America/Los_Angeles
BEGIN:DAYLIGHT
TZOFFSETFROM:-0800
TZOFFSETTO:-0700
TZNAME:PDT
DTSTART:20230312T100000
END:DAYLIGHT
BEGIN:STANDARD
TZOFFSETFROM:-0700
TZOFFSETTO:-0800
TZNAME:PST
DTSTART:20231105T090000
END:STANDARD
END:VTIMEZONE
BEGIN:VEVENT
DTSTART;TZID=America/Los_Angeles:20231113T183000
DTEND;TZID=America/Los_Angeles:20231113T200000
DTSTAMP:20260423T161608
CREATED:20231108T000307Z
LAST-MODIFIED:20231108T000307Z
UID:6577-1699900200-1699905600@wics.ics.uci.edu
SUMMARY:Fall 2023 Week 7: Intern-taining Conversations with WICS
DESCRIPTION:RSVP: https://forms.gle/e9mquQvhgWFx4A9P9 \nWant to know what the ins and outs of an internship look like? Come meet WICS members\, who recently had internships\, and hear them spill the tea about their experiences! Learn the tips and tricks about navigating recruitment season and what it’s like to work as an intern in industry and research. Join us on Monday 11/13/23 from 6:30 – 8:00 pm in DBH 6011.
URL:https://wics.ics.uci.edu/event/fall-2023-week-7-intern-taining-conversations-with-wics/
LOCATION:DBH 6011
ATTACH;FMTTYPE=image/png:https://wics.ics.uci.edu/wp-content/uploads/2023/11/Intern-taining-Conversations-FB.png
END:VEVENT
END:VCALENDAR